BEGIN:VCALENDAR
VERSION:2.0
PRODID:-//85.13.166.142//NONSGML kigkonsult.se iCalcreator 2.41.92//
CALSCALE:GREGORIAN
METHOD:PUBLISH
UID:63653731-6333-4838-b637-303031393631
X-WR-CALNAME:Termine
X-WR-CALDESC:
X-WR-TIMEZONE:Europe/Berlin
BEGIN:VEVENT
UID:34663866-3161-4534-a430-623161333831
DTSTAMP:20260419T121301Z
DESCRIPTION:
DTSTART:20260205T190000
DTEND:20260205T200000
LOCATION:
SUMMARY:Infoabend pro FOS - Jetzt anmelden!
END:VEVENT
END:VCALENDAR
