BEGIN:VCALENDAR
VERSION:2.0
PRODID:-//85.13.166.142//NONSGML kigkonsult.se iCalcreator 2.41.92//
CALSCALE:GREGORIAN
METHOD:PUBLISH
UID:64643939-3430-4636-b535-386566353262
X-WR-CALNAME:Termine
X-WR-CALDESC:
X-WR-TIMEZONE:Europe/Berlin
BEGIN:VEVENT
UID:32623635-6438-4632-a433-663566643732
DTSTAMP:20260419T122059Z
DESCRIPTION:
DTSTART:20260129T190000
DTEND:20260129T200000
LOCATION:
SUMMARY:Infoabend Gymnasium - Jetzt anmelden!
END:VEVENT
END:VCALENDAR
